BEGIN:VCALENDAR
VERSION:2.0
PRODID:-//Tukios.com/
BEGIN:VEVENT
UID:1039f017-7697-45ea-a338-8596f9dcf890@www.eversolefs.com
DTSTAMP:20260425T030718Z
DTSTART:20260613T210000Z
DTEND:20260613T220000Z
SUMMARY:Celebration of Life
DESCRIPTION:
URL:https://www.eversolefs.com/obituaries/jim-johnson
LOCATION:Brutocao Contento Venue 13801 Old Toll Rd  Hopland CA 95449
GEO:38.9732921;-123.0679794
END:VEVENT
END:VCALENDAR